BEGIN:VCALENDAR
VERSION:2.0
CALSCALE:GREGORIAN
PRODID:-//Diputació de Barcelona//DibaCMS//EN
BEGIN:VEVENT
UID:1043
DTSTAMP:20260425T175627
DTSTART:20200301T000000
DTEND:20200430T000000
SUMMARY:L'AGENDA març-abril 2020
LOCATION:
METHOD:PUBLISH
X-WR-CALNAME:ssg.ajuntament@santsalvadordeguardiola.cat
X-WR-TIMEZONE:Europe/Madrid
DESCRIPTION:Ja teni aqui l'agenda de març i abril!

URI:https://www.santsalvadordeguardiola.cat/actualitat/agenda/1043-lagenda-marc-abril-2020.html
CLASS:PUBLIC
END:VEVENT
END:VCALENDAR
