BEGIN:VCALENDAR
VERSION:2.0
CALSCALE:GREGORIAN
PRODID:-//Diputació de Barcelona//DibaCMS//EN
BEGIN:VEVENT
UID:1238
DTSTAMP:20260420T122114
DTSTART:20200917T200000
DTEND:20200917T220000
SUMMARY:Ple Municipal Ordinari 
LOCATION:
METHOD:PUBLISH
X-WR-CALNAME:ssg.ajuntament@santsalvadordeguardiola.cat
X-WR-TIMEZONE:Europe/Madrid
DESCRIPTION:
URI:https://www.santsalvadordeguardiola.cat/actualitat/agenda/1238-ple-municipal-ordinari-.html
CLASS:PUBLIC
END:VEVENT
END:VCALENDAR
