BEGIN:VCALENDAR
VERSION:2.0
CALSCALE:GREGORIAN
PRODID:-//Diputació de Barcelona//DibaCMS//EN
BEGIN:VEVENT
UID:3119
DTSTAMP:20260421T130807
DTSTART:20251101T093000
DTEND:20251101T193000
SUMMARY:Fira de la Torrada 2025
LOCATION:Sant Salvador de Guardiola 
METHOD:PUBLISH
X-WR-CALNAME:ssg.ajuntament@santsalvadordeguardiola.cat
X-WR-TIMEZONE:Europe/Madrid
DESCRIPTION:A Sant Salvador de Guardiola una vegada a l’any celebrem la Fira de la Torrada! Ens torrem de tradició, de llegendes, de natura, de menjar i beure, d’espectacles, d’humor i castanyes! Aquesta fira és tota una festa que se celebra l’1 de novembre, diada de Tot Sants. 




URI:https://www.santsalvadordeguardiola.cat/actualitat/agenda/fira-de-la-torrada-2025.html
CLASS:PUBLIC
END:VEVENT
END:VCALENDAR
