BEGIN:VCALENDAR
VERSION:2.0
CALSCALE:GREGORIAN
PRODID:-//Diputació de Barcelona//DibaCMS//EN
BEGIN:VEVENT
UID:3199
DTSTAMP:20260426T031848
DTSTART:20260131T200000
DTEND:20260131T212000
SUMMARY:"Davant l’Empire" de la Cia Forat Sense Fons
LOCATION:Carrer de la Creu, 8 08253 Sant Salvador de Guardiola
METHOD:PUBLISH
X-WR-CALNAME:ssg.ajuntament@santsalvadordeguardiola.cat
X-WR-TIMEZONE:Europe/Madrid
DESCRIPTION:Ambientada a Nova York, l’obra transcorre al terrats d’un edifici davant l’Empire State Building, on dos personatges, Jo i Bo, es troben repetidament. A través de converses que neixen d’una sorprenent trobada al terrat, es desenvolupa una relació que evoluciona des de la desconfiança inicial fins a revelar interessos, sentiments i el desig comú de pujar un dia al mirador de l’Empire, tot explorant amb humor i tendresa les inquietuds personals i els lligams humans.

Qui no s’enamora davant d’aquestes vistes?

Una comedia gairebé romàntica.

Durada de 90 minuts.

URI:https://www.santsalvadordeguardiola.cat/actualitat/agenda/davant-lempire-de-la-cia-forat-sense-fons.html
CLASS:PUBLIC
END:VEVENT
END:VCALENDAR
