BEGIN:VCALENDAR
VERSION:2.0
CALSCALE:GREGORIAN
PRODID:-//Diputació de Barcelona//DibaCMS//EN
BEGIN:VEVENT
UID:3200
DTSTAMP:20260426T035851
DTSTART:20260418T200000
DTEND:20260418T212000
SUMMARY:"Les dones sàvies" amb Enric Cambray i Ricard Farré
LOCATION:Carrer de la Creu, 8 08253 Sant Salvador de Guardiola
METHOD:PUBLISH
X-WR-CALNAME:ssg.ajuntament@santsalvadordeguardiola.cat
X-WR-TIMEZONE:Europe/Madrid
DESCRIPTION:Enric Cambray i Ricard Farré són Les dones sàvies, una proposta basada en l’obra de Molière.

Si Molière feia una crítica sobre els falsos intel·lectuals de la seva època que pretenien enlluernar tothom amb la seva retòrica, en aquesta nova adaptació en què Cambray i Farré encarnen 8 personatges, la sàtira posa els ulls en els tertulians de ràdio i televisió dels nostres dies.

_______________

1672, França. Molière i la Companyia del Rei estrenen una comèdia de costums amb un embolic familiar on s’hi recull l’afany de saber de les dones i posa en evidència un poeta mediocre i cregut de l’època.

2016, Catalunya. Molière i només dos actors estrenen la mateixa comèdia de costums amb un embolic familiar on, amb un joc interpretatiu que trenca les convencions, s’hi recull la burla dels pedants d’avui dia.

Durada de 75 minuts.

URI:https://www.santsalvadordeguardiola.cat/actualitat/agenda/les-dones-savies-amb-enric-cambray-i-ricard-farre.html
CLASS:PUBLIC
END:VEVENT
END:VCALENDAR
