BEGIN:VCALENDAR
VERSION:2.0
CALSCALE:GREGORIAN
PRODID:-//Diputació de Barcelona//DibaCMS//EN
BEGIN:VEVENT
UID:3201
DTSTAMP:20260426T035054
DTSTART:20260321T183000
DTEND:20260321T193000
SUMMARY:"La gallina dels ous d'or", de Zum Zum Teatre
LOCATION:Carrer de la Creu, 8 08253 Sant Salvador de Guardiola
METHOD:PUBLISH
X-WR-CALNAME:ssg.ajuntament@santsalvadordeguardiola.cat
X-WR-TIMEZONE:Europe/Madrid
DESCRIPTION:Us agraden els diners? … Molt?
Els grangers d’aquesta història no perdien el temps pensant en els diners i sempre repartien el poc que tenien amb qui més ho necessitava, però un dia va arribar una gallina a la seva granja i va pondre un ou d’or.

Us imagineu si us passa a vosaltres?
LA GALLINA DELS OUS D’OR és una història que conta que el diners són un “cuento”.

Durada de 50 minuts. Per públic familiar a partir de 4 anys.

URI:https://www.santsalvadordeguardiola.cat/actualitat/agenda/la-gallina-dels-ous-dor-de-zum-zum-teatre.html
CLASS:PUBLIC
END:VEVENT
END:VCALENDAR
