BEGIN:VCALENDAR
VERSION:2.0
CALSCALE:GREGORIAN
PRODID:-//Diputació de Barcelona//DibaCMS//EN
BEGIN:VEVENT
UID:3306
DTSTAMP:20260421T144824
DTSTART:20260418T110000
DTEND:20260418T180000
SUMMARY:Concurs de Paelles del Calvet
LOCATION:C/ Pau Casals s/n 08253 Sant Salvador de Guardiola
METHOD:PUBLISH
X-WR-CALNAME:ssg.ajuntament@santsalvadordeguardiola.cat
X-WR-TIMEZONE:Europe/Madrid
DESCRIPTION:El proper 18 d’abril, La Masia del Calvet acull el Concurs de Paelles, una jornada per compartir, cuinar i gaudir en bona companyia. Els participants hauran de ser a la Masia a les 11 h i tenir la paella a punt a les 14 h. Cal portar els propis utensilis i ingredients. Inscripció obligatòria: 2 € per persona (mínim 2 persones per equip).  Data límit d’inscripció: dijous 16 d’abril. També hi haurà paella popular (7 €, beguda no inclosa) i servei de bar. Es recomana reservar. Premi de 100 € per a la millor paella! Inscripcions i informació: 635 20 84 01 (trucada o WhatsApp).

 

 

URI:https://www.santsalvadordeguardiola.cat/actualitat/agenda/concurs-de-paelles-del-calvet.html
CLASS:PUBLIC
END:VEVENT
END:VCALENDAR
