BEGIN:VCALENDAR
VERSION:2.0
CALSCALE:GREGORIAN
PRODID:-//Diputació de Barcelona//DibaCMS//EN
BEGIN:VEVENT
UID:3314
DTSTAMP:20260423T165650
DTSTART:20260425T100000
DTEND:20260426T150000
SUMMARY:Festa de Sant Marc 2026
LOCATION:Segons activitat 
METHOD:PUBLISH
X-WR-CALNAME:ssg.ajuntament@santsalvadordeguardiola.cat
X-WR-TIMEZONE:Europe/Madrid
DESCRIPTION:A banda dels actes propis de l’Homenatge a la Gent Gran, com el dinar de germanor, la missa o l’actuació de Josep Saez, trobarem els actes propis i tradicionals de la festivitat, com la Missa Solemne cantada pel cor parroquial, la posterior benedicció del panellet i del terme, la ballada de les Caramelles (Colla dels Quintos), els ballets dels Gegants de la vila i el repartiment dels panellets de Sant Marc.

URI:https://www.santsalvadordeguardiola.cat/actualitat/agenda/festa-de-sant-marc-2026.html
CLASS:PUBLIC
END:VEVENT
END:VCALENDAR
