BEGIN:VCALENDAR
VERSION:2.0
CALSCALE:GREGORIAN
PRODID:-//Diputació de Barcelona//DibaCMS//EN
BEGIN:VEVENT
UID:3317
DTSTAMP:20260422T161734
DTSTART:20260425T080000
DTEND:20260425T130000
SUMMARY:Movem-nos! "El Torrent de les Fonts"
LOCATION:Carrer Moreneta cantonada amb Carrer Marganell 08253 Sant Salvador de Guardiola
METHOD:PUBLISH
X-WR-CALNAME:ssg.ajuntament@santsalvadordeguardiola.cat
X-WR-TIMEZONE:Europe/Madrid
DESCRIPTION:Amb el guiatge del Cercle Cultural La Guíxola es farà la sortida a "El Torrent de les Fonts". En cas de pluja, s'anularà l'activitat.

URI:https://www.santsalvadordeguardiola.cat/actualitat/agenda/movem-nos-el-torrent-de-les-fonts.html
CLASS:PUBLIC
END:VEVENT
END:VCALENDAR
