BEGIN:VCALENDAR
VERSION:2.0
CALSCALE:GREGORIAN
PRODID:-//Diputació de Barcelona//DibaCMS//EN
BEGIN:VEVENT
UID:851
DTSTAMP:20260424T045210
DTSTART:20211127T080000
DTEND:20211127T100000
SUMMARY:Movem-nos!!!
LOCATION:Punt de trobada al Pavelló.  
METHOD:PUBLISH
X-WR-CALNAME:ssg.ajuntament@santsalvadordeguardiola.cat
X-WR-TIMEZONE:Europe/Madrid
DESCRIPTION:Movem-nos!!! Sortides pels voltants de Sant Salvador,  l'últim dissabte de cada mes. 

URI:https://www.santsalvadordeguardiola.cat/actualitat/agenda/851-movem-nos.html
CLASS:PUBLIC
END:VEVENT
END:VCALENDAR
