BEGIN:VCALENDAR
VERSION:2.0
CALSCALE:GREGORIAN
PRODID:-//Diputació de Barcelona//DibaCMS//EN
BEGIN:VEVENT
UID:932
DTSTAMP:20260422T185154
DTSTART:20190916T000000
DTEND:20191116T000000
SUMMARY:SETMANA EUROPEA DE LA MOBILITAT
LOCATION:
METHOD:PUBLISH
X-WR-CALNAME:ssg.ajuntament@santsalvadordeguardiola.cat
X-WR-TIMEZONE:Europe/Madrid
DESCRIPTION:
URI:https://www.santsalvadordeguardiola.cat/actualitat/agenda/setmana-europea-de-la-mobilitat.html
CLASS:PUBLIC
END:VEVENT
END:VCALENDAR
